BEGIN:VCALENDAR
VERSION:2.0
PRODID:-//wp-events-plugin.com//7.2.3.1//EN
TZID:Europe/Berlin
X-WR-TIMEZONE:Europe/Berlin
BEGIN:VEVENT
UID:136@pyramidengarten-berlin.de
DTSTART;TZID=Europe/Berlin:20250525T120000
DTEND;TZID=Europe/Berlin:20250525T180000
DTSTAMP:20250502T085043Z
URL:https://pyramidengarten-berlin.de/events/pyramidengarten-auf-dem-boddi
 nplatz-flohmarkt/
SUMMARY:Pyramidengarten auf dem Boddinplatz Flohmarkt
DESCRIPTION:
LOCATION:Boddinplatz\, Boddinplatz\, Berlin-Neukölln\, 12053\, Deutschland
X-APPLE-STRUCTURED-LOCATION;VALUE=URI;X-ADDRESS=Boddinplatz\, Berlin-Neukö
 lln\, 12053\, Deutschland;X-APPLE-RADIUS=100;X-TITLE=Boddinplatz:geo:0,0
END:VEVENT
BEGIN:VTIMEZONE
TZID:Europe/Berlin
X-LIC-LOCATION:Europe/Berlin
BEGIN:DAYLIGHT
DTSTART:20250330T030000
TZOFFSETFROM:+0100
TZOFFSETTO:+0200
TZNAME:CEST
END:DAYLIGHT
END:VTIMEZONE
END:VCALENDAR