BEGIN:VCALENDAR
VERSION:2.0
PRODID:-//wp-events-plugin.com//7.2.3.1//EN
TZID:Europe/Berlin
X-WR-TIMEZONE:Europe/Berlin
BEGIN:VEVENT
UID:118@pyramidengarten-berlin.de
DTSTART;TZID=Europe/Berlin:20240824T100000
DTEND;TZID=Europe/Berlin:20240824T230000
DTSTAMP:20240715T122850Z
URL:https://pyramidengarten-berlin.de/events/nathalie-feiert-bei-uns-im-ga
 rten-geburtstag/
SUMMARY:Nathalie feiert bei uns im Garten Geburtstag
DESCRIPTION:
END:VEVENT
BEGIN:VTIMEZONE
TZID:Europe/Berlin
X-LIC-LOCATION:Europe/Berlin
BEGIN:DAYLIGHT
DTSTART:20240331T030000
TZOFFSETFROM:+0100
TZOFFSETTO:+0200
TZNAME:CEST
END:DAYLIGHT
END:VTIMEZONE
END:VCALENDAR