BEGIN:VCALENDAR
VERSION:2.0
PRODID:-//wp-events-plugin.com//7.2.3.1//EN
TZID:Europe/Berlin
X-WR-TIMEZONE:Europe/Berlin
BEGIN:VEVENT
UID:119@pyramidengarten-berlin.de
DTSTART;TZID=Europe/Berlin:20240831T120000
DTEND;TZID=Europe/Berlin:20240831T210000
DTSTAMP:20240717T060933Z
URL:https://pyramidengarten-berlin.de/events/maja-feiert-mit-freunden-im-g
 arten/
SUMMARY:Maja feiert mit Freunden im Garten
DESCRIPTION:
END:VEVENT
BEGIN:VTIMEZONE
TZID:Europe/Berlin
X-LIC-LOCATION:Europe/Berlin
BEGIN:DAYLIGHT
DTSTART:20240331T030000
TZOFFSETFROM:+0100
TZOFFSETTO:+0200
TZNAME:CEST
END:DAYLIGHT
END:VTIMEZONE
END:VCALENDAR