BEGIN:VCALENDAR
VERSION:2.0
PRODID:-//wp-events-plugin.com//7.2.3.1//EN
TZID:Europe/Berlin
X-WR-TIMEZONE:Europe/Berlin
BEGIN:VEVENT
UID:121@pyramidengarten-berlin.de
DTSTART;TZID=Europe/Berlin:20240830T170000
DTEND;TZID=Europe/Berlin:20240830T230000
DTSTAMP:20240830T084817Z
URL:https://pyramidengarten-berlin.de/events/ingo-grillt/
SUMMARY:Ingo grillt
DESCRIPTION:aber nicht so viele Leute - zweite Gruppe würde ohne Probleme 
 noch passen
LOCATION:Pyramidengarten\, Columbiadamm 120\, Berlin\, Berlin\, 10965\, Ber
 lin\, Deutschland
GEO:52.4801439;13.4197748
X-APPLE-STRUCTURED-LOCATION;VALUE=URI;X-ADDRESS=Columbiadamm 120\, Berlin\,
  Berlin\, 10965\, Berlin\, Deutschland;X-APPLE-RADIUS=100;X-TITLE=Pyramide
 ngarten:geo:52.4801439,13.4197748
END:VEVENT
BEGIN:VTIMEZONE
TZID:Europe/Berlin
X-LIC-LOCATION:Europe/Berlin
BEGIN:DAYLIGHT
DTSTART:20240331T030000
TZOFFSETFROM:+0100
TZOFFSETTO:+0200
TZNAME:CEST
END:DAYLIGHT
END:VTIMEZONE
END:VCALENDAR