BEGIN:VCALENDAR
VERSION:2.0
PRODID:-//wp-events-plugin.com//7.2.3.1//EN
TZID:Europe/Berlin
X-WR-TIMEZONE:Europe/Berlin
BEGIN:VEVENT
UID:98@pyramidengarten-berlin.de
DTSTART;TZID=Europe/Berlin:20240621T160000
DTEND;TZID=Europe/Berlin:20240621T230000
DTSTAMP:20240430T062903Z
URL:https://pyramidengarten-berlin.de/events/ingo-feiert-geburtstag-im-gar
 ten/
SUMMARY:Ingo feiert Geburtstag im Garten
DESCRIPTION:
END:VEVENT
BEGIN:VTIMEZONE
TZID:Europe/Berlin
X-LIC-LOCATION:Europe/Berlin
BEGIN:DAYLIGHT
DTSTART:20240331T030000
TZOFFSETFROM:+0100
TZOFFSETTO:+0200
TZNAME:CEST
END:DAYLIGHT
END:VTIMEZONE
END:VCALENDAR