BEGIN:VCALENDAR
VERSION:2.0
PRODID:-//wp-events-plugin.com//7.2.3.1//EN
TZID:Europe/Berlin
X-WR-TIMEZONE:Europe/Berlin
BEGIN:VEVENT
UID:106@pyramidengarten-berlin.de
DTSTART;TZID=Europe/Berlin:20240706T110000
DTEND;TZID=Europe/Berlin:20240706T230000
DTSTAMP:20240604T163805Z
URL:https://pyramidengarten-berlin.de/events/aaron-christine-feiern-im-gar
 ten-20-p/
SUMMARY:Aaron + Christine feiern im Garten (20 P.)
DESCRIPTION:
END:VEVENT
BEGIN:VTIMEZONE
TZID:Europe/Berlin
X-LIC-LOCATION:Europe/Berlin
BEGIN:DAYLIGHT
DTSTART:20240331T030000
TZOFFSETFROM:+0100
TZOFFSETTO:+0200
TZNAME:CEST
END:DAYLIGHT
END:VTIMEZONE
END:VCALENDAR